BEGIN:VCALENDAR
VERSION:2.0
PRODID:-//Dachverband Kultur Sundern e. V. - ECPv6.15.11//NONSGML v1.0//EN
CALSCALE:GREGORIAN
METHOD:PUBLISH
X-WR-CALNAME:Dachverband Kultur Sundern e. V.
X-ORIGINAL-URL:https://dachverband-kultur-sundern.de
X-WR-CALDESC:Veranstaltungen für Dachverband Kultur Sundern e. V.
REFRESH-INTERVAL;VALUE=DURATION:PT1H
X-Robots-Tag:noindex
X-PUBLISHED-TTL:PT1H
BEGIN:VTIMEZONE
TZID:Europe/Berlin
BEGIN:DAYLIGHT
TZOFFSETFROM:+0100
TZOFFSETTO:+0200
TZNAME:CEST
DTSTART:20220327T010000
END:DAYLIGHT
BEGIN:STANDARD
TZOFFSETFROM:+0200
TZOFFSETTO:+0100
TZNAME:CET
DTSTART:20221030T010000
END:STANDARD
BEGIN:DAYLIGHT
TZOFFSETFROM:+0100
TZOFFSETTO:+0200
TZNAME:CEST
DTSTART:20230326T010000
END:DAYLIGHT
BEGIN:STANDARD
TZOFFSETFROM:+0200
TZOFFSETTO:+0100
TZNAME:CET
DTSTART:20231029T010000
END:STANDARD
BEGIN:DAYLIGHT
TZOFFSETFROM:+0100
TZOFFSETTO:+0200
TZNAME:CEST
DTSTART:20240331T010000
END:DAYLIGHT
BEGIN:STANDARD
TZOFFSETFROM:+0200
TZOFFSETTO:+0100
TZNAME:CET
DTSTART:20241027T010000
END:STANDARD
END:VTIMEZONE
BEGIN:VEVENT
DTSTART;TZID=Europe/Berlin:20230331T190000
DTEND;TZID=Europe/Berlin:20230331T210000
DTSTAMP:20260423T203405
CREATED:20230205T172742Z
LAST-MODIFIED:20230205T172742Z
UID:1021-1680289200-1680296400@dachverband-kultur-sundern.de
SUMMARY:"Ein ukrainischer Abend" mit Michael Rode (Bariton)\, Violyna Petryschenko (Klavier) und einem ukrainischen Frauenchor
DESCRIPTION:Beschreibung: Einige Frauen aus der Ukraine\, die nach Sundern geflüchtet sind und hier einen Amateur-Chor gegründet haben\, werden uns ukrainische Volkslieder zu Gehör bringen; die Pianistin Vilyna Petryschenko und der Bariton Michael Rode\, die beide aus Saporischja in der Ost-Ukraine stammen\, haben ein Programm zusammengestellt\, das Werke ukrainischer Komponisten beinhaltet. „Hoffnung“ ist dieser Abend betitelt\, und er wird uns zeigen\, dass man in der Sprache der Musik -auch und gerade in schwersten Zeiten- Hoffnung und Glauben an die Zukunft finden und ausdrücken kann.
URL:https://dachverband-kultur-sundern.de/veranstaltung/ein-ukrainischer-abend-mit-michael-rode-bariton-violyna-petryschenko-klavier-und-einem-ukrainischen-frauenchor/
LOCATION:Sunderland Hotel\, Rathausplatz 2\, Sundern\, Nordrhein-Westfalen\, 59846\, Deutschland
END:VEVENT
END:VCALENDAR