BEGIN:VCALENDAR
VERSION:2.0
PRODID:-//Dachverband Kultur Sundern e. V. - ECPv6.15.11//NONSGML v1.0//EN
CALSCALE:GREGORIAN
METHOD:PUBLISH
X-WR-CALNAME:Dachverband Kultur Sundern e. V.
X-ORIGINAL-URL:https://dachverband-kultur-sundern.de
X-WR-CALDESC:Veranstaltungen für Dachverband Kultur Sundern e. V.
REFRESH-INTERVAL;VALUE=DURATION:PT1H
X-Robots-Tag:noindex
X-PUBLISHED-TTL:PT1H
BEGIN:VTIMEZONE
TZID:Europe/Berlin
BEGIN:DAYLIGHT
TZOFFSETFROM:+0100
TZOFFSETTO:+0200
TZNAME:CEST
DTSTART:20210328T010000
END:DAYLIGHT
BEGIN:STANDARD
TZOFFSETFROM:+0200
TZOFFSETTO:+0100
TZNAME:CET
DTSTART:20211031T010000
END:STANDARD
BEGIN:DAYLIGHT
TZOFFSETFROM:+0100
TZOFFSETTO:+0200
TZNAME:CEST
DTSTART:20220327T010000
END:DAYLIGHT
BEGIN:STANDARD
TZOFFSETFROM:+0200
TZOFFSETTO:+0100
TZNAME:CET
DTSTART:20221030T010000
END:STANDARD
BEGIN:DAYLIGHT
TZOFFSETFROM:+0100
TZOFFSETTO:+0200
TZNAME:CEST
DTSTART:20230326T010000
END:DAYLIGHT
BEGIN:STANDARD
TZOFFSETFROM:+0200
TZOFFSETTO:+0100
TZNAME:CET
DTSTART:20231029T010000
END:STANDARD
END:VTIMEZONE
BEGIN:VEVENT
DTSTART;TZID=Europe/Berlin:20220322T190000
DTEND;TZID=Europe/Berlin:20220322T210000
DTSTAMP:20260423T215012
CREATED:20220321T141446Z
LAST-MODIFIED:20220321T141446Z
UID:780-1647975600-1647982800@dachverband-kultur-sundern.de
SUMMARY:Filmabend "Marie Curie" - über die Rolle der Frau in der Wissenschaft
DESCRIPTION:Filmabend in der Stadtbücherei Sundern; Eintritt frei \nHinweis: Dieser Termin ist ausgebucht; es besteht eine Warteliste.
URL:https://dachverband-kultur-sundern.de/veranstaltung/filmabend-marie-curie-ueber-die-rolle-der-frau-in-der-wissenschaft/
LOCATION:Stadtbücherei\, Settmeckestraße 3\, Sundern
CATEGORIES:Filmevent
END:VEVENT
END:VCALENDAR