BEGIN:VCALENDAR
VERSION:2.0
PRODID:-//Dachverband Kultur Sundern e. V. - ECPv6.15.11//NONSGML v1.0//EN
CALSCALE:GREGORIAN
METHOD:PUBLISH
X-WR-CALNAME:Dachverband Kultur Sundern e. V.
X-ORIGINAL-URL:https://dachverband-kultur-sundern.de
X-WR-CALDESC:Veranstaltungen für Dachverband Kultur Sundern e. V.
REFRESH-INTERVAL;VALUE=DURATION:PT1H
X-Robots-Tag:noindex
X-PUBLISHED-TTL:PT1H
BEGIN:VTIMEZONE
TZID:Europe/Berlin
BEGIN:DAYLIGHT
TZOFFSETFROM:+0100
TZOFFSETTO:+0200
TZNAME:CEST
DTSTART:20210328T010000
END:DAYLIGHT
BEGIN:STANDARD
TZOFFSETFROM:+0200
TZOFFSETTO:+0100
TZNAME:CET
DTSTART:20211031T010000
END:STANDARD
BEGIN:DAYLIGHT
TZOFFSETFROM:+0100
TZOFFSETTO:+0200
TZNAME:CEST
DTSTART:20220327T010000
END:DAYLIGHT
BEGIN:STANDARD
TZOFFSETFROM:+0200
TZOFFSETTO:+0100
TZNAME:CET
DTSTART:20221030T010000
END:STANDARD
BEGIN:DAYLIGHT
TZOFFSETFROM:+0100
TZOFFSETTO:+0200
TZNAME:CEST
DTSTART:20230326T010000
END:DAYLIGHT
BEGIN:STANDARD
TZOFFSETFROM:+0200
TZOFFSETTO:+0100
TZNAME:CET
DTSTART:20231029T010000
END:STANDARD
END:VTIMEZONE
BEGIN:VEVENT
DTSTART;TZID=Europe/Berlin:20220925T153000
DTEND;TZID=Europe/Berlin:20220925T180000
DTSTAMP:20260423T214424
CREATED:20220905T172005Z
LAST-MODIFIED:20220905T172342Z
UID:945-1664119800-1664128800@dachverband-kultur-sundern.de
SUMMARY:Kul-Tour
DESCRIPTION:Ein literarisch-musikalischer Rundgang durch die Innenstadt Sunderns! Das Kulturbüro\, die Musikschule und die VHS Arnsberg/Sundern laden herzlich ein zur ersten „Kul-Tour“: Los geht es am 25.09.22 um 15.30 am Rathaus. Von dort geht es über die alte Kornbrennerei und die Stadtbücherei zum Gebäude der vhs Arnsberg/Sundern. An jedem Ort wird es kleine musikalische oder literarische Beiträge geben. In der VHS besteht am Ende die Möglichkeit\, den Nachmittag mit kühlen Getränken ausklingen zu lassen.
URL:https://dachverband-kultur-sundern.de/veranstaltung/kul-tour/
LOCATION:Rathaus\, Rathausplatz 1\, Sundern\, 59846\, Deutschland
CATEGORIES:Konzert,Vortrag
END:VEVENT
END:VCALENDAR