BEGIN:VCALENDAR
VERSION:2.0
PRODID:-//Dachverband Kultur Sundern e. V. - ECPv6.15.11//NONSGML v1.0//EN
CALSCALE:GREGORIAN
METHOD:PUBLISH
X-WR-CALNAME:Dachverband Kultur Sundern e. V.
X-ORIGINAL-URL:https://dachverband-kultur-sundern.de
X-WR-CALDESC:Veranstaltungen für Dachverband Kultur Sundern e. V.
REFRESH-INTERVAL;VALUE=DURATION:PT1H
X-Robots-Tag:noindex
X-PUBLISHED-TTL:PT1H
BEGIN:VTIMEZONE
TZID:Europe/Berlin
BEGIN:DAYLIGHT
TZOFFSETFROM:+0100
TZOFFSETTO:+0200
TZNAME:CEST
DTSTART:20210328T010000
END:DAYLIGHT
BEGIN:STANDARD
TZOFFSETFROM:+0200
TZOFFSETTO:+0100
TZNAME:CET
DTSTART:20211031T010000
END:STANDARD
BEGIN:DAYLIGHT
TZOFFSETFROM:+0100
TZOFFSETTO:+0200
TZNAME:CEST
DTSTART:20220327T010000
END:DAYLIGHT
BEGIN:STANDARD
TZOFFSETFROM:+0200
TZOFFSETTO:+0100
TZNAME:CET
DTSTART:20221030T010000
END:STANDARD
BEGIN:DAYLIGHT
TZOFFSETFROM:+0100
TZOFFSETTO:+0200
TZNAME:CEST
DTSTART:20230326T010000
END:DAYLIGHT
BEGIN:STANDARD
TZOFFSETFROM:+0200
TZOFFSETTO:+0100
TZNAME:CET
DTSTART:20231029T010000
END:STANDARD
END:VTIMEZONE
BEGIN:VEVENT
DTSTART;TZID=Europe/Berlin:20221015T200000
DTEND;TZID=Europe/Berlin:20221015T233000
DTSTAMP:20260423T202824
CREATED:20220825T140851Z
LAST-MODIFIED:20220825T141005Z
UID:937-1665864000-1665876600@dachverband-kultur-sundern.de
SUMMARY:MonoBox
DESCRIPTION:Die seit August 2005 bestehende Band wurde beeinflusst und inspiriert von Stoner-Rock-Größen wie Kyuss\, ihr Stil ist jedoch auch eigen und speziell. Die Musik ist anarchisch und melodisch\, sie geht direkt ins Ohr und wird immer getragen von der ausdrucksstarken Vortragsweise der Sänger\, die ganz aus dem Bauch heraus agieren und sich der Spielfreude ihrer Mitmusiker anschließen. Ihre Musik wird geprägt durch einen groovenden Bass und mal schleppende\, mal treibende Gitarren\, die mit harten Riffs den Kopf zum Wippen bringen… Ende 2011 erschien ihr Debütalbum – The Way \nMonobox:\nNico Melenhorst Voc/Git\nPatto Pawlinsky Git/Voc\nDennis Scholz Bass\nMichael Struwe Drums
URL:https://dachverband-kultur-sundern.de/veranstaltung/monobox/
LOCATION:Alte Molkerei Allendorf\, Allendorfer Str. 34\, Sundern-Allendorf\, NRW\, 59846\, Deutschland
CATEGORIES:Konzert
END:VEVENT
END:VCALENDAR