BEGIN:VCALENDAR
VERSION:2.0
PRODID:-//Dachverband Kultur Sundern e. V. - ECPv6.15.11//NONSGML v1.0//EN
CALSCALE:GREGORIAN
METHOD:PUBLISH
X-WR-CALNAME:Dachverband Kultur Sundern e. V.
X-ORIGINAL-URL:https://dachverband-kultur-sundern.de
X-WR-CALDESC:Veranstaltungen für Dachverband Kultur Sundern e. V.
REFRESH-INTERVAL;VALUE=DURATION:PT1H
X-Robots-Tag:noindex
X-PUBLISHED-TTL:PT1H
BEGIN:VTIMEZONE
TZID:Europe/Berlin
BEGIN:DAYLIGHT
TZOFFSETFROM:+0100
TZOFFSETTO:+0200
TZNAME:CEST
DTSTART:20210328T010000
END:DAYLIGHT
BEGIN:STANDARD
TZOFFSETFROM:+0200
TZOFFSETTO:+0100
TZNAME:CET
DTSTART:20211031T010000
END:STANDARD
BEGIN:DAYLIGHT
TZOFFSETFROM:+0100
TZOFFSETTO:+0200
TZNAME:CEST
DTSTART:20220327T010000
END:DAYLIGHT
BEGIN:STANDARD
TZOFFSETFROM:+0200
TZOFFSETTO:+0100
TZNAME:CET
DTSTART:20221030T010000
END:STANDARD
BEGIN:DAYLIGHT
TZOFFSETFROM:+0100
TZOFFSETTO:+0200
TZNAME:CEST
DTSTART:20230326T010000
END:DAYLIGHT
BEGIN:STANDARD
TZOFFSETFROM:+0200
TZOFFSETTO:+0100
TZNAME:CET
DTSTART:20231029T010000
END:STANDARD
END:VTIMEZONE
BEGIN:VEVENT
DTSTART;TZID=Europe/Berlin:20221218T140000
DTEND;TZID=Europe/Berlin:20221218T170000
DTSTAMP:20260423T185224
CREATED:20221025T195056Z
LAST-MODIFIED:20221106T170801Z
UID:994-1671372000-1671382800@dachverband-kultur-sundern.de
SUMMARY:Nikolauskonzert Con Brio Hagen
DESCRIPTION:Der Chor Con Brio – GV „Cäcilia“ 1871 Hagen lädt zum Nikolauskonzert in die Schützenhalle Hagen ein und freut sich auf zahlreiche Besucher.
URL:https://dachverband-kultur-sundern.de/veranstaltung/nikolauskonzert-con-brio-hagen/
LOCATION:Schützenhalle Sundern-Hagen\, Schützenstraße\, Sundern\, 59846\, Deutschland
ATTACH;FMTTYPE=image/jpeg:https://dachverband-kultur-sundern.de/wp-content/uploads/2022/10/Nikolauskonzert.jpg
END:VEVENT
END:VCALENDAR