BEGIN:VCALENDAR
VERSION:2.0
PRODID:-//Dachverband Kultur Sundern e. V. - ECPv6.15.11//NONSGML v1.0//EN
CALSCALE:GREGORIAN
METHOD:PUBLISH
X-WR-CALNAME:Dachverband Kultur Sundern e. V.
X-ORIGINAL-URL:https://dachverband-kultur-sundern.de
X-WR-CALDESC:Veranstaltungen für Dachverband Kultur Sundern e. V.
REFRESH-INTERVAL;VALUE=DURATION:PT1H
X-Robots-Tag:noindex
X-PUBLISHED-TTL:PT1H
BEGIN:VTIMEZONE
TZID:Europe/Berlin
BEGIN:DAYLIGHT
TZOFFSETFROM:+0100
TZOFFSETTO:+0200
TZNAME:CEST
DTSTART:20210328T010000
END:DAYLIGHT
BEGIN:STANDARD
TZOFFSETFROM:+0200
TZOFFSETTO:+0100
TZNAME:CET
DTSTART:20211031T010000
END:STANDARD
BEGIN:DAYLIGHT
TZOFFSETFROM:+0100
TZOFFSETTO:+0200
TZNAME:CEST
DTSTART:20220327T010000
END:DAYLIGHT
BEGIN:STANDARD
TZOFFSETFROM:+0200
TZOFFSETTO:+0100
TZNAME:CET
DTSTART:20221030T010000
END:STANDARD
BEGIN:DAYLIGHT
TZOFFSETFROM:+0100
TZOFFSETTO:+0200
TZNAME:CEST
DTSTART:20230326T010000
END:DAYLIGHT
BEGIN:STANDARD
TZOFFSETFROM:+0200
TZOFFSETTO:+0100
TZNAME:CET
DTSTART:20231029T010000
END:STANDARD
END:VTIMEZONE
BEGIN:VEVENT
DTSTART;TZID=Europe/Berlin:20221023T110000
DTEND;TZID=Europe/Berlin:20221023T140000
DTSTAMP:20260423T203431
CREATED:20221023T210332Z
LAST-MODIFIED:20221023T210332Z
UID:989-1666522800-1666533600@dachverband-kultur-sundern.de
SUMMARY:Papierflieger Collagen und Illustrationen im Berghaus Stockum
DESCRIPTION:Am kommenden Sonntag beginnt die Ausstellung „Papierflieger Collage trifft Illustration“ von Mores Rabenstern und Werner Towara im Berghaus Stockum. Am Sonntag den 23. Oktober 2022 um 11 Uhr sind alle herzlich eingeladen die Werke anzuschauen und das Geheimnis um den Papierflieger zu erfahren. Sicher beantworten die beiden auch gerne Ihre Fragen zu den Bildern und Collagen. Begleitend zu der Ausstellung können Führungen gebucht werden. Die Berghaus-Pädagogik bietet ein Mitmachprogramm für Schulklassen an – Kunst sehen\, verstehen\, ausprobieren. \nDie Ausstellung läuft vom 23. 10. 2022 bis 18.12.2022 \n 
URL:https://dachverband-kultur-sundern.de/veranstaltung/papierflieger-collagen-und-illustrationen-im-berghaus-stockum/
LOCATION:Akademie für Kunst und Kultur\, Berghaus Stockum\, Stockumer Straße Nr. 7\, Sundern Stockum\, Nordrhein-Westfalen\, 59846\, Deutschland
END:VEVENT
END:VCALENDAR