BEGIN:VCALENDAR
VERSION:2.0
PRODID:-//Dachverband Kultur Sundern e. V. - ECPv6.15.11//NONSGML v1.0//EN
CALSCALE:GREGORIAN
METHOD:PUBLISH
X-WR-CALNAME:Dachverband Kultur Sundern e. V.
X-ORIGINAL-URL:https://dachverband-kultur-sundern.de
X-WR-CALDESC:Veranstaltungen für Dachverband Kultur Sundern e. V.
REFRESH-INTERVAL;VALUE=DURATION:PT1H
X-Robots-Tag:noindex
X-PUBLISHED-TTL:PT1H
BEGIN:VTIMEZONE
TZID:Europe/Berlin
BEGIN:DAYLIGHT
TZOFFSETFROM:+0100
TZOFFSETTO:+0200
TZNAME:CEST
DTSTART:20210328T010000
END:DAYLIGHT
BEGIN:STANDARD
TZOFFSETFROM:+0200
TZOFFSETTO:+0100
TZNAME:CET
DTSTART:20211031T010000
END:STANDARD
BEGIN:DAYLIGHT
TZOFFSETFROM:+0100
TZOFFSETTO:+0200
TZNAME:CEST
DTSTART:20220327T010000
END:DAYLIGHT
BEGIN:STANDARD
TZOFFSETFROM:+0200
TZOFFSETTO:+0100
TZNAME:CET
DTSTART:20221030T010000
END:STANDARD
BEGIN:DAYLIGHT
TZOFFSETFROM:+0100
TZOFFSETTO:+0200
TZNAME:CEST
DTSTART:20230326T010000
END:DAYLIGHT
BEGIN:STANDARD
TZOFFSETFROM:+0200
TZOFFSETTO:+0100
TZNAME:CET
DTSTART:20231029T010000
END:STANDARD
END:VTIMEZONE
BEGIN:VEVENT
DTSTART;TZID=Europe/Berlin:20220819T190000
DTEND;TZID=Europe/Berlin:20220819T235500
DTSTAMP:20260423T214317
CREATED:20220713T193249Z
LAST-MODIFIED:20220713T194352Z
UID:915-1660935600-1660953300@dachverband-kultur-sundern.de
SUMMARY:SING DOCH MAL
DESCRIPTION:Das 1. Mitsingkonzert in der Stadt Sundern findet am 19. August 2022 ab 19.00 Uhr auf der Seebühne in Langscheid am Sorpesee stadt. \nDie musikalische Begleitung erfolgt durch die Band  BORN TO MUSIC. \nDieses 1. Mitsingkonzert ist ein Kooperationsprojekt Des MGV Westfalia\, des Frauenchors Endorf\, Hubert Wienecke vom MGV Stemel\, dem Radio HSK Bürgerfunk und dem Kulturbüro der Stadt Sundern \nGefördert wird das Projekt durch LEADER sein! Bürgerregion am Sorpesee
URL:https://dachverband-kultur-sundern.de/veranstaltung/sing-doch-mal/
LOCATION:Seebühne in Langscheid am Sorpesee\, Seebühne in Langscheid am Sorpesee\, Sundern-Langscheid\, Nordrhein-Westfalen\, 59846\, Deutschland
END:VEVENT
END:VCALENDAR