BEGIN:VCALENDAR
VERSION:2.0
PRODID:-//Dachverband Kultur Sundern e. V. - ECPv6.15.11//NONSGML v1.0//EN
CALSCALE:GREGORIAN
METHOD:PUBLISH
X-WR-CALNAME:Dachverband Kultur Sundern e. V.
X-ORIGINAL-URL:https://dachverband-kultur-sundern.de
X-WR-CALDESC:Veranstaltungen für Dachverband Kultur Sundern e. V.
REFRESH-INTERVAL;VALUE=DURATION:PT1H
X-Robots-Tag:noindex
X-PUBLISHED-TTL:PT1H
BEGIN:VTIMEZONE
TZID:Europe/Berlin
BEGIN:DAYLIGHT
TZOFFSETFROM:+0100
TZOFFSETTO:+0200
TZNAME:CEST
DTSTART:20210328T010000
END:DAYLIGHT
BEGIN:STANDARD
TZOFFSETFROM:+0200
TZOFFSETTO:+0100
TZNAME:CET
DTSTART:20211031T010000
END:STANDARD
BEGIN:DAYLIGHT
TZOFFSETFROM:+0100
TZOFFSETTO:+0200
TZNAME:CEST
DTSTART:20220327T010000
END:DAYLIGHT
BEGIN:STANDARD
TZOFFSETFROM:+0200
TZOFFSETTO:+0100
TZNAME:CET
DTSTART:20221030T010000
END:STANDARD
BEGIN:DAYLIGHT
TZOFFSETFROM:+0100
TZOFFSETTO:+0200
TZNAME:CEST
DTSTART:20230326T010000
END:DAYLIGHT
BEGIN:STANDARD
TZOFFSETFROM:+0200
TZOFFSETTO:+0100
TZNAME:CET
DTSTART:20231029T010000
END:STANDARD
END:VTIMEZONE
BEGIN:VEVENT
DTSTART;TZID=Europe/Berlin:20220909T140000
DTEND;TZID=Europe/Berlin:20220909T235900
DTSTAMP:20260423T214451
CREATED:20220217T154353Z
LAST-MODIFIED:20220825T135852Z
UID:686-1662732000-1662767940@dachverband-kultur-sundern.de
SUMMARY:Soundcheck - Das Rockfestival
DESCRIPTION:Soundcheck – das Rockfestival ist seit 20 Jahren eine feste Größe in der Region!\nJedes Jahr wählt das Soundcheck Team aus vielen Bewerbungen vier Bands aus\, die dann auf der Bühne der alten Molkerei in Allendorf stehen. Das Team besteht aus den Mitarbeitern des Jugendbüro und Kulturbüro der Stadt Sundern\, dem Kulturtrichter Allendorf e.V. und Sounddivision Sundern. \nDie Bands und ihre unterschiedlichen Musikrichtungen locken jedes Jahr viele Zuschauer in die alte Molke in Allendorf. Geboten wird 45 Minuten Rockmusik pro Band- also insgesamt ein runder Abend! Das Eintrittsgeld von 6€ wird zwischen den Musikern aufgeteilt.
URL:https://dachverband-kultur-sundern.de/veranstaltung/soundcheck-das-rockfestival/
LOCATION:Alte Molkerei Allendorf\, Allendorfer Str. 34\, Sundern-Allendorf\, NRW\, 59846\, Deutschland
CATEGORIES:Konzert
ATTACH;FMTTYPE=image/jpeg:https://dachverband-kultur-sundern.de/wp-content/uploads/2022/02/chrome_uFHB4JaQcO.jpg
END:VEVENT
END:VCALENDAR