BEGIN:VCALENDAR
VERSION:2.0
PRODID:-//Dachverband Kultur Sundern e. V. - ECPv6.15.11//NONSGML v1.0//EN
CALSCALE:GREGORIAN
METHOD:PUBLISH
X-WR-CALNAME:Dachverband Kultur Sundern e. V.
X-ORIGINAL-URL:https://dachverband-kultur-sundern.de
X-WR-CALDESC:Veranstaltungen für Dachverband Kultur Sundern e. V.
REFRESH-INTERVAL;VALUE=DURATION:PT1H
X-Robots-Tag:noindex
X-PUBLISHED-TTL:PT1H
BEGIN:VTIMEZONE
TZID:Europe/Berlin
BEGIN:DAYLIGHT
TZOFFSETFROM:+0100
TZOFFSETTO:+0200
TZNAME:CEST
DTSTART:20210328T010000
END:DAYLIGHT
BEGIN:STANDARD
TZOFFSETFROM:+0200
TZOFFSETTO:+0100
TZNAME:CET
DTSTART:20211031T010000
END:STANDARD
BEGIN:DAYLIGHT
TZOFFSETFROM:+0100
TZOFFSETTO:+0200
TZNAME:CEST
DTSTART:20220327T010000
END:DAYLIGHT
BEGIN:STANDARD
TZOFFSETFROM:+0200
TZOFFSETTO:+0100
TZNAME:CET
DTSTART:20221030T010000
END:STANDARD
BEGIN:DAYLIGHT
TZOFFSETFROM:+0100
TZOFFSETTO:+0200
TZNAME:CEST
DTSTART:20230326T010000
END:DAYLIGHT
BEGIN:STANDARD
TZOFFSETFROM:+0200
TZOFFSETTO:+0100
TZNAME:CET
DTSTART:20231029T010000
END:STANDARD
END:VTIMEZONE
BEGIN:VEVENT
DTSTART;TZID=Europe/Berlin:20221114T180000
DTEND;TZID=Europe/Berlin:20221114T193000
DTSTAMP:20260423T203323
CREATED:20221106T211140Z
LAST-MODIFIED:20221106T211140Z
UID:1006-1668448800-1668454200@dachverband-kultur-sundern.de
SUMMARY:Vortrag Wahrnehmung und Stadtplanung. Aspekte zeitgenössischer Stadtplanung
DESCRIPTION:Zeitgenössische Stadtplanung.\nAuf unseren Wegen durch die Stadt begegnen wir einer Vielzahl von Baustilen\, Gebäudetypologien\, Zeitzeugen oder Stadträumen\, die uns in unserem alltäglichen Leben prägen – oftmals ist uns dies jedoch nicht bewusst. Mensch und Architektur beeinflussen sich gegenseitig und das auf ganz vielseitige Weise. Nicht nur unser Sozialleben\, auch Gesundheit und Wohlbefinden hängen maßgeblich mit unserer Umgebung zusammen.\nDie Planung unserer gebauten Umwelt\, unserer Dörfer und Städte wird immer komplexer. Aspekte der Nachhaltigkeit\, Individualisierung\, Digitalisierung oder Wetterereignisse sind nur einige der großen Einflussfaktoren auf uns und unsere Umgebung. Wie sieht das Zusammenleben der Zukunft aus\, was können Bürger/-innen und Bewohnende beitragen und wie kann es gelingen\, dass eine Stadt lebendig ist und bleibt?\nDie vhs lädt herzlich zu einem Vortrag ein\, der auf diese Frage eingehen möchte und anschließend die Möglichkeit zur Diskussion bietet. Der Vortrag findet statt am Montag\, 14.11. um 18.00 in der Geschäftsstelle der vhs in Sundern. Anmeldungen zum Kurs mit der Nr. 108-500 sind möglich telefonisch 02933.9099505\, per Mail: vhs@vhs-arnsberg-sundern.der oder im Internet unter www.vhs-arnsberg-sundern.de
URL:https://dachverband-kultur-sundern.de/veranstaltung/vortrag-wahrnehmung-und-stadtplanung-aspekte-zeitgenoessischer-stadtplanung/
LOCATION:VHS Sundern\, Franz-Josef-Tigges Platz 1\, Sundern\, Nordrhein-Westfalen\, 59846
END:VEVENT
END:VCALENDAR